BEGIN:VCALENDAR
VERSION:2.0
PRODID:-//ChamberMaster//Event Calendar 2.0//EN
METHOD:PUBLISH
X-PUBLISHED-TTL:P3D
REFRESH-INTERVAL:P3D
CALSCALE:GREGORIAN
BEGIN:VEVENT
DTSTART:20160224T170000Z
DTEND:20160224T190000Z
X-MICROSOFT-CDO-ALLDAYEVENT:FALSE
SUMMARY:Access to Capital-Funding Your Business
DESCRIPTION:Need funding to start or to expand your business?  Even if your business has been turned down by other loan programs\, this workshop offers other available options.
X-ALT-DESC;FMTTYPE=text/html:<strong>Need funding to start or to expand your business? &nbsp\;Even if your business has been turned down by other loan programs\, this workshop offers other available options.</strong>
LOCATION:Business Assistance Center 1150 S. Freeway\, Ft. Worth TX
UID:e.1262.2696
SEQUENCE:3
DTSTAMP:20260422T122130Z
URL:https://business.fwmbcc.org/events/details/access-to-capital-funding-your-business-02-24-2016-2696
END:VEVENT

END:VCALENDAR
