BEGIN:VCALENDAR
VERSION:2.0
PRODID:-//ChamberMaster//Event Calendar 2.0//EN
METHOD:PUBLISH
X-PUBLISHED-TTL:P3D
REFRESH-INTERVAL:P3D
CALSCALE:GREGORIAN
BEGIN:VEVENT
DTSTART:20151108T190000Z
DTEND:20151108T220000Z
X-MICROSOFT-CDO-ALLDAYEVENT:FALSE
SUMMARY:A Holiday Taste of Art
DESCRIPTION:Chefs serving up fine cuisine- Chefs Karriem\, Pruitt\, Evita\, Sanders\, Toombs\, Breads & Moore\, Delightful Treats\, Terry Young and others.  Exhibits and more
X-ALT-DESC;FMTTYPE=text/html:Chefs serving up fine cuisine- Chefs Karriem\, Pruitt\, Evita\, Sanders\, Toombs\, Breads &amp\; Moore\, Delightful Treats\, Terry Young and others. &nbsp\;Exhibits and more
LOCATION:Lenora Rolla Heritage Center Museum- 1020 E. Humbolt St.\, Ft. Worth TX 76104
UID:e.1262.2289
SEQUENCE:3
DTSTAMP:20260422T122015Z
URL:https://business.fwmbcc.org/events/details/a-holiday-taste-of-art-11-08-2015-2289
END:VEVENT

END:VCALENDAR
