BEGIN:VCALENDAR
VERSION:2.0
PRODID:-//ChamberMaster//Event Calendar 2.0//EN
METHOD:PUBLISH
X-PUBLISHED-TTL:P3D
REFRESH-INTERVAL:P3D
CALSCALE:GREGORIAN
BEGIN:VEVENT
DTSTART:20151030T123000Z
DTEND:20151030T200000Z
X-MICROSOFT-CDO-ALLDAYEVENT:FALSE
SUMMARY:9th Annual Luna Awards & RHCA Women's Business Conference
DESCRIPTION:9th Annual Luna Awards and Regional Hispanic Contractors Assn. Women's Business Conference- Construction/Architecture/Engineering
X-ALT-DESC;FMTTYPE=text/html:9th Annual Luna Awards and Regional Hispanic Contractors Assn. Women&#39\;s Business Conference- Construction/Architecture/Engineering
LOCATION:Omni Dallas Hotel
UID:e.1262.2249
SEQUENCE:3
DTSTAMP:20260422T105022Z
URL:https://business.fwmbcc.org/events/details/9th-annual-luna-awards-rhca-women-s-business-conference-10-30-2015-2249
END:VEVENT

END:VCALENDAR
