BEGIN:VCALENDAR
VERSION:2.0
PRODID:-//ChamberMaster//Event Calendar 2.0//EN
METHOD:PUBLISH
X-PUBLISHED-TTL:P3D
REFRESH-INTERVAL:P3D
CALSCALE:GREGORIAN
BEGIN:VEVENT
DTSTART:20151003T140000Z
DTEND:20151004T010000Z
X-MICROSOFT-CDO-ALLDAYEVENT:FALSE
SUMMARY:6th Annual Tarrant County Harambee Festival
DESCRIPTION:Fun\, Food\, Games\, Entertainment and Poetry Slam!!!!!!
X-ALT-DESC;FMTTYPE=text/html:Fun\, Food\, Games\, Entertainment and Poetry Slam!!!!!!
LOCATION:Evans Avenue Plaza\, 1050 Evans Av.\, Ft. Worth TX
UID:e.1262.2235
SEQUENCE:3
DTSTAMP:20260422T091753Z
URL:https://business.fwmbcc.org/events/details/6th-annual-tarrant-county-harambee-festival-10-03-2015-2235
END:VEVENT

END:VCALENDAR
