BEGIN:VCALENDAR
VERSION:2.0
PRODID:-//ChamberMaster//Event Calendar 2.0//EN
METHOD:PUBLISH
X-PUBLISHED-TTL:P3D
REFRESH-INTERVAL:P3D
CALSCALE:GREGORIAN
BEGIN:VEVENT
DTSTART:20210318T143000Z
DTEND:20210318T193000Z
X-MICROSOFT-CDO-ALLDAYEVENT:FALSE
SUMMARY:4M - March Minority Matchmaking Madness
DESCRIPTION:EXHIBITORS\n\n\n\nThis virtual speed-meeting event will give minority businesses an opportunity to have an exclusive sit down with municipalities\, corporations\, and general contractors to present their capabilities and discuss partnering opportunities.\n\nSign up as an Exhibitor: Vendors will visit you in 10-minute intervals to present their firms capabilities\, capacity\, and experience.\n\n\n\nVENDORS\n\n\n\n\n	Get your exclusive 1 on 1 with municipalities\, corporations\, and general contractors.\n	Select up to five meeting slots.\n\n\n\n\nRegister today! Upon successful registration\, you will receive an email with information to schedule your one-on-ones.\n\nFind a perfect match!\n\n\n\n\n\n\n\nRegister at \n\nhttps://www.eventbrite.com/e/4m-march-minority-matchmaking-madness-event-tickets-133304279689?aff=erellivmlt
X-ALT-DESC;FMTTYPE=text/html:<div class="structured-content-rich-text structured-content__module l-align-left l-mar-vert-6 l-sm-mar-vert-4 text-body-medium" style="margin: 30px 0px\; padding: 0px\; font-size: 14.9333px\; line-height: 1.25rem\; text-rendering: optimizelegibility\; color: rgb(57\, 54\, 79)\; font-family: &quot\;Neue Plak&quot\;\, -apple-system\, BlinkMacSystemFont\, Roboto\, &quot\;Helvetica Neue&quot\;\, Helvetica\, Tahoma\, Arial\, sans-serif\; letter-spacing: 0.5px\; background-color: rgb(255\, 255\, 255)\;">\n<h3 style="margin: 0px\; padding: 0px\; color: rgb(30\, 10\, 60)\; font-size: 20px\; line-height: 1.75rem\; font-weight: 400\;">EXHIBITORS</h3>\n</div>\n\n<div class="structured-content-rich-text structured-content__module l-align-left l-mar-vert-6 l-sm-mar-vert-4 text-body-medium" style="margin: 30px 0px\; padding: 0px\; font-size: 14.9333px\; line-height: 1.25rem\; text-rendering: optimizelegibility\; color: rgb(57\, 54\, 79)\; font-family: &quot\;Neue Plak&quot\;\, -apple-system\, BlinkMacSystemFont\, Roboto\, &quot\;Helvetica Neue&quot\;\, Helvetica\, Tahoma\, Arial\, sans-serif\; letter-spacing: 0.5px\; background-color: rgb(255\, 255\, 255)\;">\n<p style="margin: 0px\; padding: 0px\; color: rgb(111\, 114\, 135)\; font-size: 16px\; line-height: 1.5rem\;">This virtual speed-meeting event will give minority businesses an opportunity to have an exclusive sit down with municipalities\, corporations\, and general contractors to present their capabilities and discuss partnering opportunities.</p>\n\n<p style="margin: 0px\; padding: 10px 0px 0px\; color: rgb(111\, 114\, 135)\; font-size: 16px\; line-height: 1.5rem\;">Sign up as an Exhibitor: Vendors will visit you in 10-minute intervals to present their firms capabilities\, capacity\, and experience.</p>\n\n<p style="margin: 0px\; padding: 10px 0px 0px\; color: rgb(111\, 114\, 135)\; font-size: 16px\; line-height: 1.5rem\;"><br />\nVENDORS</p>\n</div>\n\n<div class="structured-content-rich-text structured-content__module l-align-left l-mar-vert-6 l-sm-mar-vert-4 text-body-medium" style="margin: 30px 0px\; padding: 0px\; font-size: 14.9333px\; line-height: 1.25rem\; text-rendering: optimizelegibility\; color: rgb(57\, 54\, 79)\; font-family: &quot\;Neue Plak&quot\;\, -apple-system\, BlinkMacSystemFont\, Roboto\, &quot\;Helvetica Neue&quot\;\, Helvetica\, Tahoma\, Arial\, sans-serif\; letter-spacing: 0.5px\; background-color: rgb(255\, 255\, 255)\;">\n<ul style="margin: 0px\; padding: 0px 0px 0px 2em\; list-style-position: initial\; list-style-image: initial\; color: rgb(111\, 114\, 135)\; font-size: 16px\; line-height: 1.5rem\;">\n	<li style="margin: 0px\; padding: 0px\;">Get your exclusive 1 on 1 with municipalities\, corporations\, and general contractors.</li>\n	<li style="margin: 0px\; padding: 5px 0px 0px\;">Select up to five meeting slots.</li>\n</ul>\n\n<p style="margin: 0px\; padding: 10px 0px 0px\; color: rgb(111\, 114\, 135)\; font-size: 16px\; line-height: 1.5rem\;"><br />\nRegister today! Upon successful registration\, you will receive an email with information to schedule&nbsp\;your one-on-ones.</p>\n</div>\n<span style="font-size:16px\;"><span style="font-family:arial\;">Find a perfect match!</span></span><br />\n<br />\n<br />\n<br />\nRegister at&nbsp\;<br />\n<u><strong>https://www.eventbrite.com/e/4m-march-minority-matchmaking-madness-event-tickets-133304279689?aff=erellivmlt</strong></u>
LOCATION:This is a virtual event.
UID:e.1262.4857
SEQUENCE:3
DTSTAMP:20260425T204726Z
URL:https://business.fwmbcc.org/events/details/4m-march-minority-matchmaking-madness-4857
END:VEVENT

END:VCALENDAR
