BEGIN:VCALENDAR
VERSION:2.0
PRODID:-//ChamberMaster//Event Calendar 2.0//EN
METHOD:PUBLISH
X-PUBLISHED-TTL:P3D
REFRESH-INTERVAL:P3D
CALSCALE:GREGORIAN
BEGIN:VEVENT
DTSTART:20160220T010000Z
DTEND:20160220T040000Z
X-MICROSOFT-CDO-ALLDAYEVENT:FALSE
SUMMARY:2nd Annual Uhuru Academy ADULT Spelling Bee
DESCRIPTION:2nd Annual Uhuru Academy Adult Spelling Bee benefits the African Centered Education (A.C.E.) Uhuru Academy. It's for the Adults\, Bring the whole family. Raffles\, food\, drinks\, entertainment and much more!
X-ALT-DESC;FMTTYPE=text/html:<strong>2nd Annual Uhuru Academy Adult Spelling Bee benefits the African Centered Education (A.C.E.) Uhuru Academy. It&#39\;s for the Adults\, Bring the whole family. Raffles\, food\, drinks\, entertainment and much more!</strong>
LOCATION:Nubia's Event Center at 6722 Brentwood Stair Rd.\, Ft. Worth TX
UID:e.1262.2415
SEQUENCE:3
DTSTAMP:20260422T122015Z
URL:https://business.fwmbcc.org/events/details/2nd-annual-uhuru-academy-adult-spelling-bee-02-19-2016-2415
END:VEVENT

END:VCALENDAR
