BEGIN:VCALENDAR
VERSION:2.0
PRODID:-//ChamberMaster//Event Calendar 2.0//EN
METHOD:PUBLISH
X-PUBLISHED-TTL:P3D
REFRESH-INTERVAL:P3D
CALSCALE:GREGORIAN
BEGIN:VEVENT
DTSTART;VALUE=DATE:20170819
DTEND;VALUE=DATE:20170820
TRANSP:TRANSPARENT
X-MICROSOFT-CDO-ALLDAYEVENT:TRUE
SUMMARY:2nd Annual Healthy Lives Matter Alzheimer's Education Seminar
DESCRIPTION:Alzheimer's health awareness.
X-ALT-DESC;FMTTYPE=text/html:Alzheimer&#39\;s health awareness.
LOCATION:Tarrant County College Trinity River Campus
UID:e.1262.3039
SEQUENCE:3
DTSTAMP:20260421T160736Z
URL:https://business.fwmbcc.org/events/details/2nd-annual-healthy-lives-matter-alzheimer-s-education-seminar-3039
END:VEVENT

END:VCALENDAR
