BEGIN:VCALENDAR
VERSION:2.0
PRODID:-//ChamberMaster//Event Calendar 2.0//EN
METHOD:PUBLISH
X-PUBLISHED-TTL:P3D
REFRESH-INTERVAL:P3D
CALSCALE:GREGORIAN
BEGIN:VEVENT
DTSTART:20190223T140000Z
DTEND:20190223T210000Z
X-MICROSOFT-CDO-ALLDAYEVENT:FALSE
SUMMARY:27th Annual Film Institute
DESCRIPTION:FWMBCC Presents \n\nThe 27th ANNUAL FILM & MOVIE INSTITUTE\n \n\n\n	\n		\n			\n			FILM INSTITUTE\n\n			SATURDAY\, FEB. 23\, 2019\n\n			8 A.M.   3 P.M.\n			\n		\n	\n\n\n \n \n\nForest Hill Civic & Convention Center\n\n6901 Wichita Street\, Forest Hill\, Texas 76140\n \n\nA full day of learning from those who work in and know "the business".\n\nOnly $75 per person\, luncheon included. (Deadline to register is February 9\, 2019)\n\n \n\nParticipate in sessions consisting of:\n\n\n	HANDS ON-ACTING    \n	ENSEMBLE ACTING TEAM COMPETITION    \n	FASHION SHOW    \n	PRODUCTION \n	FILM PRODUCTION    \n	PRODUCING DIRECTING    \n	CAMERA OPERATION    \n	STAGING    \n	LIGHTING\n\n \n\nOpen to Kids\, Teens\, and Adults looking to learn about the world of film making and beyond. If your dream is to have a career "in-front of" or behind the camera\, this is a great place to start! \n\n\n\n\n\n \nThe 27th Annual Film & Movie Institute \n\nOnly $75 per person \n\n(Deadline to register February 9\, 2019)\n\n\n\nPlease mail form and make checks payable to FWMBCC\, Att: Film Institute\n\n1150 South Freeway     Suite 211    Fort Worth\, Texas\, 76104    Phone: 817-871-6538
X-ALT-DESC;FMTTYPE=text/html:&nbsp\;<br />\n&nbsp\;\n<div style="text-align: center\;"><strong><span style="font-size:18.0pt\;">FWMBCC Presents </span></strong><br />\n<strong><span style="font-size:18.0pt\;">The 27th ANNUAL FILM &amp\; MOVIE INSTITUTE</span></strong></div>\n&nbsp\;\n\n<table cellpadding="0" cellspacing="0" width="100%">\n	<tbody>\n		<tr>\n			<td>\n			<div style="text-align: center\;"><strong><span style="color:#2F5496\;"><span style="font-family:century schoolbook\,serif\;"><span style="font-size:28.0pt\;">FILM INSTITUTE</span></span></span></strong><br />\n			<strong><span style="font-family:century schoolbook\,serif\;"><span style="font-size:20.0pt\;">SATURDAY\, FEB. 23\, 2019</span></span></strong><br />\n			<strong><span style="font-family:century schoolbook\,serif\;"><span style="font-size:18.0pt\;">8 A.M. &ndash\; 3 P.M.</span></span></strong></div>\n			</td>\n		</tr>\n	</tbody>\n</table>\n\n<div style="text-align: center\;">&nbsp\;</div>\n&nbsp\;\n\n<div style="text-align: center\;"><strong><span style="font-size:12.0pt\;">Forest Hill Civic &amp\; Convention Center</span></strong><br />\n<strong><span style="font-size:12.0pt\;">6901 Wichita Street\, Forest Hill\, Texas 76140</span></strong></div>\n&nbsp\;<br />\n<span style="font-size:12.0pt\;">A full day of learning from those who work in and know &ldquo\;the business&rdquo\;.</span><br />\n<span style="font-size:12.0pt\;">Only $75 per person\, luncheon included. <strong><span style="color:red\;">(Deadline to register is February 9\, 2019)</span></strong></span><br />\n&nbsp\;<br />\n<strong><span style="font-size:12.0pt\;">Participate in sessions consisting of:</span></strong>\n\n<ul>\n	<li><strong><span style="font-size:12.0pt\;">HANDS ON-ACTING&nbsp\; &nbsp\;&nbsp\;</span></strong></li>\n	<li><strong><span style="font-size:12.0pt\;">ENSEMBLE ACTING TEAM COMPETITION&nbsp\;&nbsp\;&nbsp\; </span></strong></li>\n	<li><strong><span style="font-size:12.0pt\;">FASHION SHOW&nbsp\;&nbsp\;&nbsp\; </span></strong></li>\n	<li><strong><span style="font-size:12.0pt\;">PRODUCTION </span></strong></li>\n	<li><strong><span style="font-size:12.0pt\;">FILM PRODUCTION&nbsp\;&nbsp\;&nbsp\; </span></strong></li>\n	<li><strong><span style="font-size:12.0pt\;">PRODUCING DIRECTING&nbsp\;&nbsp\; &nbsp\;</span></strong></li>\n	<li><strong><span style="font-size:12.0pt\;">CAMERA OPERATION&nbsp\;&nbsp\;&nbsp\; </span></strong></li>\n	<li><strong><span style="font-size:12.0pt\;">STAGING&nbsp\;&nbsp\; &nbsp\;</span></strong></li>\n	<li><strong><span style="font-size:12.0pt\;">LIGHTING</span></strong></li>\n</ul>\n&nbsp\;<br />\n<span style="font-size:12.0pt\;">Open to Kids\, Teens\, and Adults looking to learn about the world of film making and beyond. If your dream is to have a career &ldquo\;in-front of&rdquo\; or behind the camera\, this is a great place to start! </span><br />\n<br />\n<br />\n&nbsp\;\n<div style="text-align: center\;"><strong><em>The 27<sup>th</sup> Annual Film &amp\; Movie Institute </em></strong><br />\n<strong><em>Only $75 per person </em></strong><br />\n<strong><em><u><span style="color:red\;"><span style="font-size:14.0pt\;">(Deadline to register February 9\, 2019)</span></span></u></em></strong><br />\n<br />\n<strong><span style="font-size:12.0pt\;">Please mail form and make checks payable to FWMBCC\, Att: Film Institute</span></strong><br />\n<strong><span style="font-size:12.0pt\;">1150 South Freeway&nbsp\;&nbsp\; &nbsp\;&nbsp\;Suite 211&nbsp\;&nbsp\;&nbsp\; Fort Worth\, Texas\, 76104&nbsp\;&nbsp\; &nbsp\;Phone: 817-871-6538</span></strong></div>\n
LOCATION:Forest Hill Civic & Convention Center 6901 Wichita Street\, Forest Hill\, Texas 76140
UID:e.1262.4145
SEQUENCE:3
DTSTAMP:20260422T203509Z
URL:https://business.fwmbcc.org/events/details/27th-annual-film-institute-4145
END:VEVENT

END:VCALENDAR
