BEGIN:VCALENDAR
VERSION:2.0
PRODID:-//ChamberMaster//Event Calendar 2.0//EN
METHOD:PUBLISH
X-PUBLISHED-TTL:P3D
REFRESH-INTERVAL:P3D
CALSCALE:GREGORIAN
BEGIN:VEVENT
DTSTART:20160312T140000Z
DTEND:20160312T210000Z
X-MICROSOFT-CDO-ALLDAYEVENT:FALSE
SUMMARY:24th Annual FWMBCC Film Institute
DESCRIPTION:Join us for a full day of invaluable information about the Film and Television industry from experts in the field.
X-ALT-DESC;FMTTYPE=text/html:<strong>Join us for a full day of invaluable information about the Film and Television industry from experts in the field.</strong>
LOCATION:Forest Hill Civic Center 6901 Wichita St. Ft. Worth TX
UID:e.1262.2553
SEQUENCE:3
DTSTAMP:20260422T105435Z
URL:https://business.fwmbcc.org/events/details/24th-annual-fwmbcc-film-institute-03-12-2016-2553
END:VEVENT

END:VCALENDAR
