BEGIN:VCALENDAR
VERSION:2.0
PRODID:-//ChamberMaster//Event Calendar 2.0//EN
METHOD:PUBLISH
X-PUBLISHED-TTL:P3D
REFRESH-INTERVAL:P3D
CALSCALE:GREGORIAN
BEGIN:VEVENT
DTSTART:20151015T170000Z
DTEND:20151015T183000Z
X-MICROSOFT-CDO-ALLDAYEVENT:FALSE
SUMMARY:23rd Annual Women's Luncheon & Eagle Awards Presentation
DESCRIPTION:23rd Annual Women's Luncheon & Eagle Awards Presentation\n\nFeaturing Keynote Speaker\n\nDr. Rachel Croson\, Dean of UTA College of Business\n\n"The Future of Business"
X-ALT-DESC;FMTTYPE=text/html:<strong style="color: rgb(34\, 34\, 34)\; line-height: normal\; font-family: arial\, sans-serif\; font-size: 12.8px\;">23rd Annual Women&#39\;s Luncheon &amp\; Eagle Awards Presentation</strong><br />\n<em>Featuring Keynote Speaker</em><br />\nDr. Rachel Croson\, Dean of UTA College of Business<br />\n<em><strong>&quot\;The Future of Business&quot\;</strong></em>
LOCATION:Amon Carter Center 3200 Sanguinet Street Fort Worth\, Texas 76107
UID:e.1262.2210
SEQUENCE:3
DTSTAMP:20260422T091719Z
URL:https://business.fwmbcc.org/events/details/23rd-annual-women-s-luncheon-eagle-awards-presentation-10-15-2015-2210
END:VEVENT

END:VCALENDAR
