BEGIN:VCALENDAR
VERSION:2.0
PRODID:-//ChamberMaster//Event Calendar 2.0//EN
METHOD:PUBLISH
X-PUBLISHED-TTL:P3D
REFRESH-INTERVAL:P3D
CALSCALE:GREGORIAN
BEGIN:VEVENT
DTSTART:20180515T130000Z
DTEND:20180515T170000Z
X-MICROSOFT-CDO-ALLDAYEVENT:FALSE
SUMMARY:2018 Millennial Sales & Leadership Summit
DESCRIPTION:Learn best practices for hiring\, developing and advancing millennial sales leadership. Reduce your risk of costly turnover.
X-ALT-DESC;FMTTYPE=text/html:Learn best practices for hiring\, developing and advancing millennial sales leadership. Reduce your risk of costly turnover.&nbsp\;&nbsp\;
LOCATION:TXU Energy Center 200 West John Carpenter Freeway Irving\, TX 75039
UID:e.1262.4102
SEQUENCE:3
DTSTAMP:20260422T054858Z
URL:https://business.fwmbcc.org/events/details/2018-millennial-sales-leadership-summit-4102
END:VEVENT

END:VCALENDAR
