BEGIN:VCALENDAR
VERSION:2.0
PRODID:-//ChamberMaster//Event Calendar 2.0//EN
METHOD:PUBLISH
X-PUBLISHED-TTL:P3D
REFRESH-INTERVAL:P3D
CALSCALE:GREGORIAN
BEGIN:VEVENT
DTSTART;VALUE=DATE:20170604
DTEND;VALUE=DATE:20170617
TRANSP:TRANSPARENT
X-MICROSOFT-CDO-ALLDAYEVENT:TRUE
SUMMARY:2017 Research Extension Apprentice Program
DESCRIPTION:2-week program for high school juniors and seniors interested in helping to solve the world's food security problem.
X-ALT-DESC;FMTTYPE=text/html:2-week program for high school juniors and seniors interested in helping to solve the world&#39\;s food security problem.&nbsp\;
LOCATION:
UID:e.1262.3041
SEQUENCE:3
DTSTAMP:20260421T130635Z
URL:https://business.fwmbcc.org/events/details/2017-research-extension-apprentice-program-3041
END:VEVENT

END:VCALENDAR
