BEGIN:VCALENDAR
VERSION:2.0
PRODID:-//ChamberMaster//Event Calendar 2.0//EN
METHOD:PUBLISH
X-PUBLISHED-TTL:P3D
REFRESH-INTERVAL:P3D
CALSCALE:GREGORIAN
BEGIN:VEVENT
DTSTART:20170129T020000Z
DTEND:20170129T040000Z
X-MICROSOFT-CDO-ALLDAYEVENT:FALSE
SUMMARY:2017 Kickoff Breakfast
DESCRIPTION:Please look forward to  updated information on this event.
X-ALT-DESC;FMTTYPE=text/html:Please look forward to &nbsp\;updated information on this event.
LOCATION:
UID:e.1262.2804
SEQUENCE:3
DTSTAMP:20260421T190007Z
URL:https://business.fwmbcc.org/events/details/2017-kickoff-breakfast-01-28-2017-2804
END:VEVENT

END:VCALENDAR
