BEGIN:VCALENDAR
VERSION:2.0
PRODID:-//ChamberMaster//Event Calendar 2.0//EN
METHOD:PUBLISH
X-PUBLISHED-TTL:P3D
REFRESH-INTERVAL:P3D
CALSCALE:GREGORIAN
BEGIN:VEVENT
DTSTART:20160610T143000Z
DTEND:20160610T183000Z
X-MICROSOFT-CDO-ALLDAYEVENT:FALSE
SUMMARY:2016 Rally 4 Education
DESCRIPTION:2016 Rally 4 Education - 24th Annual Youth Educational PEP- RALLY\n\n\n\nFree for Students\n\nFriday\, June 10th\n\n9:30 a.m. - 1:30 p.m.\n\n\n\nJean McClung Middle School\n\n3000 Forest Ave.\n\nFort Worth\, TX\n\n\n\nGrand Prize: LAPTOP COMPUTER AND PRINTER!
X-ALT-DESC;FMTTYPE=text/html:2016 Rally 4 Education - 24th Annual Youth Educational PEP- RALLY<br />\n<br />\nFree for Students<br />\nFriday\, June&nbsp\;10th<br />\n9:30 a.m. - 1:30 p.m.<br />\n<br />\nJean McClung Middle School<br />\n3000 Forest Ave.<br />\nFort Worth\, TX<br />\n<br />\nGrand Prize: LAPTOP COMPUTER AND PRINTER!
LOCATION:Jean McClung Middle School 3000 Forest Ave. Fort Worth\, TX
UID:e.1262.2851
SEQUENCE:3
DTSTAMP:20260422T054844Z
URL:https://business.fwmbcc.org/events/details/2016-rally-4-education-06-10-2016-2851
END:VEVENT

END:VCALENDAR
