BEGIN:VCALENDAR
VERSION:2.0
PRODID:-//ChamberMaster//Event Calendar 2.0//EN
METHOD:PUBLISH
X-PUBLISHED-TTL:P3D
REFRESH-INTERVAL:P3D
CALSCALE:GREGORIAN
BEGIN:VEVENT
DTSTART:20160412T170000Z
DTEND:20160412T183000Z
X-MICROSOFT-CDO-ALLDAYEVENT:FALSE
SUMMARY:2016 Annual Doing the Most Good Luncheon
DESCRIPTION:2016 Annual Doing the Most Good Luncheon\, Guest Speaker NFL Hall of Famer\, Emmitt Smith
X-ALT-DESC;FMTTYPE=text/html:<strong>2016 Annual Doing the Most Good Luncheon\, Guest Speaker NFL Hall of Famer\, Emmitt Smith</strong>
LOCATION:Omni Hotel\, Fort Worth\, Texas
UID:e.1262.2770
SEQUENCE:3
DTSTAMP:20260422T091551Z
URL:https://business.fwmbcc.org/events/details/2016-annual-doing-the-most-good-luncheon-04-12-2016-2770
END:VEVENT

END:VCALENDAR
