BEGIN:VCALENDAR
VERSION:2.0
PRODID:-//ChamberMaster//Event Calendar 2.0//EN
METHOD:PUBLISH
X-PUBLISHED-TTL:P3D
REFRESH-INTERVAL:P3D
CALSCALE:GREGORIAN
BEGIN:VEVENT
DTSTART:20160304T190000Z
DTEND:20160304T230000Z
X-MICROSOFT-CDO-ALLDAYEVENT:FALSE
SUMMARY:2016 Annual Alley Scholars Summit-Career & Education Vendor Fair
DESCRIPTION:2016 Annual Alley Scholars Summit - Career and Education Vendor Fair\n\nAlley Scholars Summit offers a unique opportunity to network\, share information\, career options and opportunities for advanced educational experiences to top notch minority students.  The Summit includes a Business Plan Competition\, designed to allow student teams to get professional feedback and funding for their business ventures.
X-ALT-DESC;FMTTYPE=text/html:<strong>2016 Annual Alley Scholars Summit - Career and Education Vendor Fair<br />\nAlley Scholars Summit offers a unique opportunity to network\, share information\, career options and opportunities for advanced educational experiences to top notch minority students. &nbsp\;The Summit includes a Business Plan Competition\, designed to allow student teams to get professional feedback and funding for their business ventures.</strong>
LOCATION:Tarrant County College- Trinity River Campus\, Ft. Worth Texas
UID:e.1262.2743
SEQUENCE:3
DTSTAMP:20260422T122248Z
URL:https://business.fwmbcc.org/events/details/2016-annual-alley-scholars-summit-career-education-vendor-fair-03-04-2016-2743
END:VEVENT

END:VCALENDAR
