BEGIN:VCALENDAR
VERSION:2.0
PRODID:-//ChamberMaster//Event Calendar 2.0//EN
METHOD:PUBLISH
X-PUBLISHED-TTL:P3D
REFRESH-INTERVAL:P3D
CALSCALE:GREGORIAN
BEGIN:VEVENT
DTSTART:20160415T223000Z
DTEND:20160416T030000Z
X-MICROSOFT-CDO-ALLDAYEVENT:FALSE
SUMMARY:2016 African American Heritage Night at Globe Life Park in Arlington
DESCRIPTION:TXU Energy AL West Champs Flag\n\nTXU Energy Post game Fireworks show\n\nJACKIE ROBINSON NIGHT
X-ALT-DESC;FMTTYPE=text/html:TXU Energy AL West Champs Flag<br />\nTXU Energy Post game Fireworks show<br />\n<strong>JACKIE ROBINSON NIGHT</strong>
LOCATION:Globe Life Park in Arlington Texas
UID:e.1262.2822
SEQUENCE:3
DTSTAMP:20260422T092047Z
URL:https://business.fwmbcc.org/events/details/2016-african-american-heritage-night-at-globe-life-park-in-arlington-04-15-2016-2822
END:VEVENT

END:VCALENDAR
