BEGIN:VCALENDAR
VERSION:2.0
PRODID:-//ChamberMaster//Event Calendar 2.0//EN
METHOD:PUBLISH
X-PUBLISHED-TTL:P3D
REFRESH-INTERVAL:P3D
CALSCALE:GREGORIAN
BEGIN:VEVENT
DTSTART:20150926T130000Z
DTEND:20150926T170000Z
X-MICROSOFT-CDO-ALLDAYEVENT:FALSE
SUMMARY:2015 Weatherford Walk to End Alzheimer's
DESCRIPTION:2015 Weatherford Walk to End Alzheimer's - Length 2 miles
X-ALT-DESC;FMTTYPE=text/html:2015 Weatherford Walk to End Alzheimer&#39\;s - Length 2 miles
LOCATION:Weatherford College Roger Williams Ballpark\, 312 College Park Drive\, Weatherford TX 76086
UID:e.1262.2259
SEQUENCE:3
DTSTAMP:20260422T073821Z
URL:https://business.fwmbcc.org/events/details/2015-weatherford-walk-to-end-alzheimer-s-09-26-2015-2259
END:VEVENT

END:VCALENDAR
