BEGIN:VCALENDAR
VERSION:2.0
PRODID:-//ChamberMaster//Event Calendar 2.0//EN
METHOD:PUBLISH
X-PUBLISHED-TTL:P3D
REFRESH-INTERVAL:P3D
CALSCALE:GREGORIAN
BEGIN:VEVENT
DTSTART:20151024T123000Z
DTEND:20151024T170000Z
X-MICROSOFT-CDO-ALLDAYEVENT:FALSE
SUMMARY:2015 Fort Worth Walk to End Alzheimer's
DESCRIPTION:2015 Fort Worth Walk to End Alzheimer's
X-ALT-DESC;FMTTYPE=text/html:2015 Fort Worth Walk to End Alzheimer&#39\;s
LOCATION:Trinity Park\, 2401 University Dr.\, Ft. Worth\, TX 76107
UID:e.1262.2263
SEQUENCE:3
DTSTAMP:20260422T091719Z
URL:https://business.fwmbcc.org/events/details/2015-fort-worth-walk-to-end-alzheimer-s-10-24-2015-2263
END:VEVENT

END:VCALENDAR
