BEGIN:VCALENDAR
VERSION:2.0
PRODID:-//ChamberMaster//Event Calendar 2.0//EN
METHOD:PUBLISH
X-PUBLISHED-TTL:P3D
REFRESH-INTERVAL:P3D
CALSCALE:GREGORIAN
BEGIN:VEVENT
DTSTART:20151003T123000Z
DTEND:20151003T170000Z
X-MICROSOFT-CDO-ALLDAYEVENT:FALSE
SUMMARY:2015 Arlington Walk to End Alzheimer's
DESCRIPTION:2015 Arlington Walk to End Alzheimer's
X-ALT-DESC;FMTTYPE=text/html:2015 Arlington Walk to End Alzheimer&#39\;s
LOCATION:UTA Mavericks Activity Center Outdoor Basketball Courts-500 W. Nedderman\, Arlington TX 76019
UID:e.1262.2258
SEQUENCE:3
DTSTAMP:20260422T091715Z
URL:https://business.fwmbcc.org/events/details/2015-arlington-walk-to-end-alzheimer-s-10-03-2015-2258
END:VEVENT

END:VCALENDAR
