BEGIN:VCALENDAR
VERSION:2.0
PRODID:-//ChamberMaster//Event Calendar 2.0//EN
METHOD:PUBLISH
X-PUBLISHED-TTL:P3D
REFRESH-INTERVAL:P3D
CALSCALE:GREGORIAN
BEGIN:VEVENT
DTSTART;VALUE=DATE:20150924
DTEND;VALUE=DATE:20150925
TRANSP:TRANSPARENT
X-MICROSOFT-CDO-ALLDAYEVENT:TRUE
SUMMARY:2015 Annual Golf Classic
DESCRIPTION:FWMBCC 2014 Golf Classic was a great success. This year we expect 144 players or more. Come out and network while having fun. Tee Off!!!
X-ALT-DESC;FMTTYPE=text/html:FWMBCC 2014 Golf Classic was a great success. This year we expect 144 players or more. Come out and network while having fun. Tee Off!!!
LOCATION:Texas Star Golf Course 1400 Texas Star Parkway Euless\, Texas 76040
UID:e.1262.2192
SEQUENCE:3
DTSTAMP:20260422T073324Z
URL:https://business.fwmbcc.org/events/details/2015-annual-golf-classic-09-24-2015-2192
END:VEVENT

END:VCALENDAR
