BEGIN:VCALENDAR
VERSION:2.0
PRODID:-//ChamberMaster//Event Calendar 2.0//EN
METHOD:PUBLISH
X-PUBLISHED-TTL:P3D
REFRESH-INTERVAL:P3D
CALSCALE:GREGORIAN
BEGIN:VEVENT
DTSTART:20160331T133000Z
DTEND:20160331T220000Z
X-MICROSOFT-CDO-ALLDAYEVENT:FALSE
SUMMARY:13 Annual Alzheimer's Association Spring Symposium-Moving Forward in Care\,Treatment & Research
DESCRIPTION:13th Annual Alzheimer's Association Spring Symposium\, Moving Forward in Care\, Treatment and Research educational event
X-ALT-DESC;FMTTYPE=text/html:13th Annual Alzheimer&#39\;s Association Spring Symposium\, Moving Forward in Care\, Treatment and Research educational event
LOCATION:Arlington Convention Center 1200 Ballpark Way Arlington TX
UID:e.1262.2805
SEQUENCE:3
DTSTAMP:20260422T105507Z
URL:https://business.fwmbcc.org/events/details/13-annual-alzheimer-s-association-spring-symposium-moving-forward-in-care-treatment-research-03-31-2016-2805
END:VEVENT

END:VCALENDAR
