BEGIN:VCALENDAR
VERSION:2.0
PRODID:-//ChamberMaster//Event Calendar 2.0//EN
METHOD:PUBLISH
X-PUBLISHED-TTL:P3D
REFRESH-INTERVAL:P3D
CALSCALE:GREGORIAN
BEGIN:VEVENT
DTSTART:20160117T010000Z
DTEND:20160117T040000Z
X-MICROSOFT-CDO-ALLDAYEVENT:FALSE
SUMMARY:10th Annual Evening of Spoken Word Slam Poetry-Arlington MLK Committee Presents
DESCRIPTION:The Arlington MLK\, Jr. Celebration Committee Inc. presents: 10th Annual Evening of Spoken Word Slam Poetry.  Poets compete for $1000.00 cash prize!  In partnership with the Ft. Worth National Poetry Slam Team\, spoken word performances highlight this evening of entertainment.  Cash bar and refreshments will be available.  ADULTS age 18 and over.
X-ALT-DESC;FMTTYPE=text/html:The Arlington MLK\, Jr. Celebration Committee Inc. presents: 10th Annual Evening of Spoken Word Slam Poetry. &nbsp\;Poets compete for $1000.00 cash prize! &nbsp\;In partnership with the Ft. Worth National Poetry Slam Team\, spoken word performances highlight this evening of entertainment. &nbsp\;Cash bar and refreshments will be available. &nbsp\;ADULTS age 18 and over.
LOCATION:UT Arlington campus-UT Arlington Bluebonnet Ballroom
UID:e.1262.2347
SEQUENCE:3
DTSTAMP:20260422T135636Z
URL:https://business.fwmbcc.org/events/details/10th-annual-evening-of-spoken-word-slam-poetry-arlington-mlk-committee-presents-01-16-2016-2347
END:VEVENT

END:VCALENDAR
